BEGIN:VCALENDAR
VERSION:2.0
PRODID:-//Pine Knoll Farm - ECPv6.15.13//NONSGML v1.0//EN
CALSCALE:GREGORIAN
METHOD:PUBLISH
X-ORIGINAL-URL:https://pineknollfarm.com
X-WR-CALDESC:Events for Pine Knoll Farm
REFRESH-INTERVAL;VALUE=DURATION:PT1H
X-Robots-Tag:noindex
X-PUBLISHED-TTL:PT1H
BEGIN:VTIMEZONE
TZID:UTC
BEGIN:STANDARD
TZOFFSETFROM:+0000
TZOFFSETTO:+0000
TZNAME:UTC
DTSTART:20230101T000000
END:STANDARD
END:VTIMEZONE
BEGIN:VEVENT
DTSTART;TZID=UTC:20250727T091500
DTEND;TZID=UTC:20250727T170000
DTSTAMP:20260424T145649
CREATED:20250618T132948Z
LAST-MODIFIED:20250618T132948Z
UID:10000994-1753607700-1753635600@pineknollfarm.com
SUMMARY:Working Equitation Ease of Handling & Dressage Test/Clinic
DESCRIPTION:Shelbie Fredenhagen of Bodhi Equus and Jenny Marie Greenough of Rowdy Cowgirl Coaching are coming together to teach a very special Working Equitation Clinic at Pine Knoll Center for Integrative Horsemanship.\n\nEach rider will have a chance to ride a dressage test and ease of handling test at the level of their choosing AND spend some time working on improving elements of each test. This will be an all-day event.\n\nAuditors are welcome!\n\nRider spots are currently full but we are accepting names for a waitlist because\, well\, horses….\n\nTo sign up for the rider waitlist or reserve your spot as an auditor please fill out this form:\nhttps://forms.gle/pQgANHhGkwoHLsiG8\n\nFor more information:\n\nhttps://www.rowdycowgirl.us/\nhttp://www.bodhiequus.com/
URL:https://pineknollfarm.com/event/working-equitation-ease-of-handling-dressage-test-clinic/
LOCATION:4901 Ironworks Rd.\, Georgetown\, KY 40324\, 4901 Ironworks rd.\, Georgetown\, KY\, 40324\, United States
END:VEVENT
BEGIN:VEVENT
DTSTART;TZID=UTC:20250327T170000
DTEND;TZID=UTC:20250330T200000
DTSTAMP:20260424T145649
CREATED:20250105T211708Z
LAST-MODIFIED:20250217T203243Z
UID:10000986-1743094800-1743364800@pineknollfarm.com
SUMMARY:Dynamic Acupuncture for Better Horsemanship
DESCRIPTION:  \n  \n \n \nDATES/TIMES\nMarch 22  | 9 AM – 4 PM (Times subject to change based on number of participants)  \nCOURSE FOCUS\nUnlock a New Level of Harmony with Your Horse \nStep into a truly transformative experience with JennyMarie Greenough\, a skilled acupuncturist and lifelong horsewoman\, as she introduces you to Dynamic Acupuncture—her groundbreaking method designed to help equestrians release old holding patterns caused by injury\, fear\, or chronic tension. Using Harmony\, an advanced equine movement assessment tool\, you’ll gain a deeper awareness of your body’s areas of imbalance or restriction. Through personalized sessions of Dynamic Acupuncture/Acupressure and guided breathing techniques\, you’ll learn to let go of tension and unlock a more balanced\, fluid connection with your horse. \nThese exclusive sessions are tailored to help you: \n\nRelease old injuries and chronic tension\nImprove balance and flexibility in the saddle\nCultivate a deeper\, freer partnership with your horse\n\nCOST\n$250 \nOnly 2 Slots Available in Late Afternoon on March 27\, 28\, 29\, 30 \nRegister for March 27 \nRegister for March 28 \nRegister for March 29 \nRegister for March 30 \nABOUT JENNYMARIE\nJenny-Marie Greenough\, LAc\, RYT is the founder of Raja Wellness and Rowdy Cowgirl Confidence Coaching. She is a graduate of the U.S. Naval Academy and spent the first part of her professional career as an officer in the Navy and then as a Program Manager for the Naval Sea Systems Command. After a life-altering injury and discovering the healing power of acupuncture first-hand\, she reconnected with her life-long love of healing and returned to school to study the East Asian Medical Model so she could share the benefits of this practice with others. Jenny is a Licensed Acupuncturist\, KY\, Diplomate in Oriental Medicine\, NCCAOM\, Soliman Auricular Allergy Treatment (SAAT) Certified Provider. 
URL:https://pineknollfarm.com/event/ride-better-by-spring-4-dynamic-acupuncture-for-better-horsemanship/
LOCATION:4901 Ironworks Rd.\, Georgetown\, KY 40324\, 4901 Ironworks rd.\, Georgetown\, KY\, 40324\, United States
ATTACH;FMTTYPE=image/jpeg:https://pineknollfarm.com/wp-content/uploads/2025/01/Dynamic-Acupuncture.jpg
END:VEVENT
BEGIN:VEVENT
DTSTART;TZID=UTC:20250222T100000
DTEND;TZID=UTC:20250222T160000
DTSTAMP:20260424T145649
CREATED:20231221T151629Z
LAST-MODIFIED:20250108T155042Z
UID:10000017-1740218400-1740240000@pineknollfarm.com
SUMMARY:Moving in Balance - Tai Chi for Better Horsemanship
DESCRIPTION:DATES/TIMES\nFebruary 22 | 10 AM – 4 PM \nCOURSE DESCRIPTION\nDiscover the art of connection and grace!  \nStep into a hands-on exploration of how Tai Chi can elevate your relationship with horses—whether you’re a seasoned rider or completely new to the world of equines. No prior horse experience is needed; horses will be provided for the exercises. Instructor JennyMarie Greenough takes the awareness gained from Meriah Kruse’s Cultivating Effortlessness workshop and brings motion to the process. Participants will learn a curated tai chi set developed specifically for improving balance and connection on horseback. Join us for a transformative day combining Tai Chi and horsemanship\, designed to deepen your awareness and enhance your bond with horses.  \n\nAs part of this exclusive experience\, you’ll receive a recording of the lecture and a complete Tai Chi practice set\, filmed live on the farm to ensure your personal takeaways are captured. These recordings\, available only to session participants\, will be yours to keep—delivered via thumb drive or through private access to the Rowdy Cowgirl website.\nYour day will also include elegant refreshments\, a healthy lunch (with vegan and gluten-free options)\, and a supportive community of like-minded women who share your passion for growth and connection. Don’t miss this unique opportunity to enrich your mind\, body\, and spirit in the company of horses and nature.\n\nSpace is limited – reserve your space now! \nPRICE\n$300 \nRegister
URL:https://pineknollfarm.com/event/ride-better-by-spring-1b/
LOCATION:4901 Ironworks Rd.\, Georgetown\, KY 40324\, 4901 Ironworks rd.\, Georgetown\, KY\, 40324\, United States
CATEGORIES:WORKSHOPS & CLINICS
ATTACH;FMTTYPE=image/jpeg:https://pineknollfarm.com/wp-content/uploads/2023/12/Tai-Chi-with-Jenny.jpg
END:VEVENT
BEGIN:VEVENT
DTSTART;TZID=UTC:20240501T180000
DTEND;TZID=UTC:20240501T210000
DTSTAMP:20260424T145649
CREATED:20231224T170301Z
LAST-MODIFIED:20240407T133725Z
UID:10000024-1714586400-1714597200@pineknollfarm.com
SUMMARY:Dressage Riding with Working Equitation Obstacles - Part 1: Lecture
DESCRIPTION:DATES/TIMES\nMay 1\, 2024 – 6pm – 9pm – Lecture \nCOURSE FOCUS\nDressage Riding with Working Equitation Obstacles \n  \nCOURSE DESCRIPTION\nLearn the aids through gymnastics to access the horse without fighting and bracing. This includes contact\, leg aids\, body position; developing balance for each horse and the task at hand. Pine Knoll has created a working equitation obstacle course to take the practice from the dressage ring outside to obstacles. These obstacles are designed to test your communication and responsiveness from your horse. Shelbie assists you in finding success with your horse\, whether or not you have experience with working equitation.  \n  \nABOUT FACILITATOR\nShelbie Fredenhagen is a classical equitation trainer\, riding instructor and traveling clinician rooting her work in bio-mechanics and respect for the horse. \nShelbie has dedicated her life to learn integrative approaches that honor how horses think\, learn\, and feel. She aims to bring patient\, kind work for the horse and aid the rider to understand their horses through feel and intention. This desire to understand the entire picture has led Shelbie to study both Classical Masters and Integrative Bodywork. \n​Shelbie works to create fluid\, individualized training programs to bring out horses naturally relaxed and true demeaner. Shelbie uses integrated bodywork and cross-training methods rooted in classical principles which honor the horse’s nature. Her training always surrounds the well-being and longevity of the horse. \nShelbie welcomes any discipline\, breed\, and age of horse including starting horses and rehabilitation cases. \n  \nWHAT’S INCLUDED\n\nLecture (5/1/24)\n\n  \nPRICE\n5/1 -Lecture – $40.00 \nContact Shelbie to REGISTER \n352-681-9797 \nbodhiequus@gmail.com \n  \n  \nPREPARING FOR YOUR COURSE\n\nWatch Safety Video CLICK HERE\nFill out course form (Download PDF)\nReview what to bring (Download PDF)
URL:https://pineknollfarm.com/event/dressage-lecture/
LOCATION:4901 Ironworks Rd.\, Georgetown\, KY 40324\, 4901 Ironworks rd.\, Georgetown\, KY\, 40324\, United States
CATEGORIES:WORKSHOPS & CLINICS
ATTACH;FMTTYPE=image/jpeg:https://pineknollfarm.com/wp-content/uploads/2024/04/WorkingEq_1000x667_2.jpg
END:VEVENT
END:VCALENDAR